BEGIN:VCALENDAR
VERSION:2.0
PRODID:-//Sportschützenverband Hildesheim-Marienburg e. V. - ECPv6.15.20//NONSGML v1.0//EN
CALSCALE:GREGORIAN
METHOD:PUBLISH
X-WR-CALNAME:Sportschützenverband Hildesheim-Marienburg e. V.
X-ORIGINAL-URL:https://ssv-hi.de
X-WR-CALDESC:Veranstaltungen für Sportschützenverband Hildesheim-Marienburg e. V.
REFRESH-INTERVAL;VALUE=DURATION:PT1H
X-Robots-Tag:noindex
X-PUBLISHED-TTL:PT1H
BEGIN:VTIMEZONE
TZID:Europe/Berlin
BEGIN:DAYLIGHT
TZOFFSETFROM:+0100
TZOFFSETTO:+0200
TZNAME:CEST
DTSTART:20220327T010000
END:DAYLIGHT
BEGIN:STANDARD
TZOFFSETFROM:+0200
TZOFFSETTO:+0100
TZNAME:CET
DTSTART:20221030T010000
END:STANDARD
BEGIN:DAYLIGHT
TZOFFSETFROM:+0100
TZOFFSETTO:+0200
TZNAME:CEST
DTSTART:20230326T010000
END:DAYLIGHT
BEGIN:STANDARD
TZOFFSETFROM:+0200
TZOFFSETTO:+0100
TZNAME:CET
DTSTART:20231029T010000
END:STANDARD
BEGIN:DAYLIGHT
TZOFFSETFROM:+0100
TZOFFSETTO:+0200
TZNAME:CEST
DTSTART:20240331T010000
END:DAYLIGHT
BEGIN:STANDARD
TZOFFSETFROM:+0200
TZOFFSETTO:+0100
TZNAME:CET
DTSTART:20241027T010000
END:STANDARD
END:VTIMEZONE
BEGIN:VEVENT
DTSTART;VALUE=DATE:20231111
DTEND;VALUE=DATE:20231113
DTSTAMP:20260424T235947
CREATED:20230622T163725Z
LAST-MODIFIED:20230622T163725Z
UID:4988-1699660800-1699833599@ssv-hi.de
SUMMARY:Ausbildung Jugendbasislizenz 2023
DESCRIPTION:Termin: 11.+ 12. November 2023\nZeiten: Samstag\, 11. November 9.00 – 17.00 Uhr\nSonntag\, 12. November 9.00 – 17.00 Uhr\nOrt: Schützenhaus des Schützenklubs Lamspringe\, Am Hopfenberg 1\, 31195 Lamspringe\nMeldeschluss ist der 14. Oktober 2023. \nAusschreibung
URL:https://ssv-hi.de/termin/ausbildung-jugendbasislizenz-2023/
LOCATION:Schützenklub Lamspringe\, Am Hopfenberg 1\, Lamspringe\, Niedersachsen\, 31195\, Deutschland
CATEGORIES:Bildung und Recht
ATTACH;FMTTYPE=image/jpeg:https://ssv-hi.de/wp-content/uploads/2018/11/Artikelbild-Bildung.jpg
ORGANIZER;CN="Sportsch%C3%BCtzenverband Hildesheim-Marienburg e. V.":MAILTO:info@ssv-hi.de
END:VEVENT
END:VCALENDAR