BEGIN:VCALENDAR
VERSION:2.0
PRODID:-//Sportschützenverband Hildesheim-Marienburg e. V. - ECPv6.15.20//NONSGML v1.0//EN
CALSCALE:GREGORIAN
METHOD:PUBLISH
X-ORIGINAL-URL:https://ssv-hi.de
X-WR-CALDESC:Veranstaltungen für Sportschützenverband Hildesheim-Marienburg e. V.
REFRESH-INTERVAL;VALUE=DURATION:PT1H
X-Robots-Tag:noindex
X-PUBLISHED-TTL:PT1H
BEGIN:VTIMEZONE
TZID:Europe/Berlin
BEGIN:DAYLIGHT
TZOFFSETFROM:+0100
TZOFFSETTO:+0200
TZNAME:CEST
DTSTART:20240331T010000
END:DAYLIGHT
BEGIN:STANDARD
TZOFFSETFROM:+0200
TZOFFSETTO:+0100
TZNAME:CET
DTSTART:20241027T010000
END:STANDARD
BEGIN:DAYLIGHT
TZOFFSETFROM:+0100
TZOFFSETTO:+0200
TZNAME:CEST
DTSTART:20250330T010000
END:DAYLIGHT
BEGIN:STANDARD
TZOFFSETFROM:+0200
TZOFFSETTO:+0100
TZNAME:CET
DTSTART:20251026T010000
END:STANDARD
BEGIN:DAYLIGHT
TZOFFSETFROM:+0100
TZOFFSETTO:+0200
TZNAME:CEST
DTSTART:20260329T010000
END:DAYLIGHT
BEGIN:STANDARD
TZOFFSETFROM:+0200
TZOFFSETTO:+0100
TZNAME:CET
DTSTART:20261025T010000
END:STANDARD
END:VTIMEZONE
BEGIN:VEVENT
DTSTART;VALUE=DATE:20250817
DTEND;VALUE=DATE:20250818
DTSTAMP:20260422T024223
CREATED:20241109T110903Z
LAST-MODIFIED:20241109T110903Z
UID:6433-1755388800-1755475199@ssv-hi.de
SUMMARY:Meldeschluss Hildesheimer Rose Winterrunde 2025/26
DESCRIPTION:
URL:https://ssv-hi.de/termin/meldeschluss-hildesheimer-rose-winterrunde-2025-26/
CATEGORIES:Damen,Jugend,Sport,Vereine
ATTACH;FMTTYPE=image/jpeg:https://ssv-hi.de/wp-content/uploads/Artikelbild-Sport.jpg
ORGANIZER;CN="Sportsch%C3%BCtzenverband Hildesheim-Marienburg e. V.":MAILTO:info@ssv-hi.de
END:VEVENT
BEGIN:VEVENT
DTSTART;VALUE=DATE:20250817
DTEND;VALUE=DATE:20250818
DTSTAMP:20260422T024223
CREATED:20241109T111009Z
LAST-MODIFIED:20241109T111009Z
UID:6435-1755388800-1755475199@ssv-hi.de
SUMMARY:Meldeschluss Auflagemeisterschaft KK 2025
DESCRIPTION:
URL:https://ssv-hi.de/termin/meldeschluss-auflagemeisterschaft-kk-2025/
LOCATION:Schützenverein Sarstedt von 1951 e. V.\, Am Festplatz 3\, Sarstedt\, 31157\, Deutschland
CATEGORIES:Damen,Sport,Vereine
ATTACH;FMTTYPE=image/jpeg:https://ssv-hi.de/wp-content/uploads/Artikelbild-Sport.jpg
ORGANIZER;CN="Sportsch%C3%BCtzenverband Hildesheim-Marienburg e. V.":MAILTO:info@ssv-hi.de
END:VEVENT
BEGIN:VEVENT
DTSTART;TZID=Europe/Berlin:20250817T100000
DTEND;TZID=Europe/Berlin:20250817T160000
DTSTAMP:20260422T024223
CREATED:20250701T195136Z
LAST-MODIFIED:20250701T195136Z
UID:7257-1755424800-1755446400@ssv-hi.de
SUMMARY:75 Jahre SSV Hildesheim-Marienburg e. V.
DESCRIPTION:
URL:https://ssv-hi.de/termin/75-jahre-ssv-hildesheim-marienburg-e-v/
LOCATION:Schützenverein Sarstedt von 1951 e. V.\, Am Festplatz 3\, Sarstedt\, 31157\, Deutschland
CATEGORIES:Vereine,Vereinsvorstände
ATTACH;FMTTYPE=image/jpeg:https://ssv-hi.de/wp-content/uploads/Artikelbild-Aktuelles.jpg
ORGANIZER;CN="Sportsch%C3%BCtzenverband Hildesheim-Marienburg e. V.":MAILTO:info@ssv-hi.de
END:VEVENT
END:VCALENDAR