BEGIN:VCALENDAR
VERSION:2.0
PRODID:-//Sportschützenverband Hildesheim-Marienburg e. V. - ECPv6.15.20//NONSGML v1.0//EN
CALSCALE:GREGORIAN
METHOD:PUBLISH
X-WR-CALNAME:Sportschützenverband Hildesheim-Marienburg e. V.
X-ORIGINAL-URL:https://ssv-hi.de
X-WR-CALDESC:Veranstaltungen für Sportschützenverband Hildesheim-Marienburg e. V.
REFRESH-INTERVAL;VALUE=DURATION:PT1H
X-Robots-Tag:noindex
X-PUBLISHED-TTL:PT1H
BEGIN:VTIMEZONE
TZID:Europe/Berlin
BEGIN:DAYLIGHT
TZOFFSETFROM:+0100
TZOFFSETTO:+0200
TZNAME:CEST
DTSTART:20240331T010000
END:DAYLIGHT
BEGIN:STANDARD
TZOFFSETFROM:+0200
TZOFFSETTO:+0100
TZNAME:CET
DTSTART:20241027T010000
END:STANDARD
BEGIN:DAYLIGHT
TZOFFSETFROM:+0100
TZOFFSETTO:+0200
TZNAME:CEST
DTSTART:20250330T010000
END:DAYLIGHT
BEGIN:STANDARD
TZOFFSETFROM:+0200
TZOFFSETTO:+0100
TZNAME:CET
DTSTART:20251026T010000
END:STANDARD
BEGIN:DAYLIGHT
TZOFFSETFROM:+0100
TZOFFSETTO:+0200
TZNAME:CEST
DTSTART:20260329T010000
END:DAYLIGHT
BEGIN:STANDARD
TZOFFSETFROM:+0200
TZOFFSETTO:+0100
TZNAME:CET
DTSTART:20261025T010000
END:STANDARD
END:VTIMEZONE
BEGIN:VEVENT
DTSTART;VALUE=DATE:20251215
DTEND;VALUE=DATE:20251216
DTSTAMP:20260421T210820
CREATED:20251204T205216Z
LAST-MODIFIED:20251204T205216Z
UID:7680-1765756800-1765843199@ssv-hi.de
SUMMARY:Abgabestichtag für Mitglieder-Meldungen zum Stichtag 31.12.2025
DESCRIPTION:
URL:https://ssv-hi.de/termin/abgabestichtag-fuer-mitglieder-meldungen-zum-stichtag-31-12-2025/
CATEGORIES:Vereine,Vereinsvorstände
ATTACH;FMTTYPE=image/jpeg:https://ssv-hi.de/wp-content/uploads/Artikelbild-Verwaltung.jpg
ORGANIZER;CN="Sportsch%C3%BCtzenverband Hildesheim-Marienburg e. V.":MAILTO:info@ssv-hi.de
END:VEVENT
END:VCALENDAR