BEGIN:VCALENDAR
VERSION:2.0
PRODID:-//Sportschützenverband Hildesheim-Marienburg e. V. - ECPv6.15.20//NONSGML v1.0//EN
CALSCALE:GREGORIAN
METHOD:PUBLISH
X-ORIGINAL-URL:https://ssv-hi.de
X-WR-CALDESC:Veranstaltungen für Sportschützenverband Hildesheim-Marienburg e. V.
REFRESH-INTERVAL;VALUE=DURATION:PT1H
X-Robots-Tag:noindex
X-PUBLISHED-TTL:PT1H
BEGIN:VTIMEZONE
TZID:Europe/Berlin
BEGIN:DAYLIGHT
TZOFFSETFROM:+0100
TZOFFSETTO:+0200
TZNAME:CEST
DTSTART:20250330T010000
END:DAYLIGHT
BEGIN:STANDARD
TZOFFSETFROM:+0200
TZOFFSETTO:+0100
TZNAME:CET
DTSTART:20251026T010000
END:STANDARD
BEGIN:DAYLIGHT
TZOFFSETFROM:+0100
TZOFFSETTO:+0200
TZNAME:CEST
DTSTART:20260329T010000
END:DAYLIGHT
BEGIN:STANDARD
TZOFFSETFROM:+0200
TZOFFSETTO:+0100
TZNAME:CET
DTSTART:20261025T010000
END:STANDARD
BEGIN:DAYLIGHT
TZOFFSETFROM:+0100
TZOFFSETTO:+0200
TZNAME:CEST
DTSTART:20270328T010000
END:DAYLIGHT
BEGIN:STANDARD
TZOFFSETFROM:+0200
TZOFFSETTO:+0100
TZNAME:CET
DTSTART:20271031T010000
END:STANDARD
END:VTIMEZONE
BEGIN:VEVENT
DTSTART;VALUE=DATE:20260221
DTEND;VALUE=DATE:20260316
DTSTAMP:20260421T172441
CREATED:20251214T193226Z
LAST-MODIFIED:20251214T193226Z
UID:7719-1771632000-1773619199@ssv-hi.de
SUMMARY:Ausbildung Schießsportleiter 2026
DESCRIPTION:Der nächste Schießsportleiter-Lehrgang findet im Schützenhaus des\nSV Gleidingen von 1928\, Ritterstraße 3 26\, 30880 Laatzen (Gleidingen) statt. \nSchulungstermine: 21. und 22.02.\, 07.\, 08. und 14.03.2026\, jeweils 9.00 bis 17.00 Uhr\nPrüfung: 15. März 2026 \nAnmeldungen: bis zum 06. Februar 2026 eingehend direkt an den Schulungsleiter Hagen Heuer
URL:https://ssv-hi.de/termin/ausbildung-schiesssportleiter-2026/
LOCATION:Schützenverein Gleidingen v. 1928 e. V.\, Ritterstr. 26\, Laatzen\, Niedersachsen\, 30880\, Deutschland
CATEGORIES:Bildung und Recht
ATTACH;FMTTYPE=image/jpeg:https://ssv-hi.de/wp-content/uploads/Artikelbild-Bildung.jpg
ORGANIZER;CN="Sportsch%C3%BCtzenverband Hildesheim-Marienburg e. V.":MAILTO:info@ssv-hi.de
END:VEVENT
END:VCALENDAR