BEGIN:VCALENDAR
VERSION:2.0
PRODID:-//Sportschützenverband Hildesheim-Marienburg e. V. - ECPv6.15.20//NONSGML v1.0//EN
CALSCALE:GREGORIAN
METHOD:PUBLISH
X-ORIGINAL-URL:https://ssv-hi.de
X-WR-CALDESC:Veranstaltungen für Sportschützenverband Hildesheim-Marienburg e. V.
REFRESH-INTERVAL;VALUE=DURATION:PT1H
X-Robots-Tag:noindex
X-PUBLISHED-TTL:PT1H
BEGIN:VTIMEZONE
TZID:Europe/Berlin
BEGIN:DAYLIGHT
TZOFFSETFROM:+0100
TZOFFSETTO:+0200
TZNAME:CEST
DTSTART:20250330T010000
END:DAYLIGHT
BEGIN:STANDARD
TZOFFSETFROM:+0200
TZOFFSETTO:+0100
TZNAME:CET
DTSTART:20251026T010000
END:STANDARD
BEGIN:DAYLIGHT
TZOFFSETFROM:+0100
TZOFFSETTO:+0200
TZNAME:CEST
DTSTART:20260329T010000
END:DAYLIGHT
BEGIN:STANDARD
TZOFFSETFROM:+0200
TZOFFSETTO:+0100
TZNAME:CET
DTSTART:20261025T010000
END:STANDARD
BEGIN:DAYLIGHT
TZOFFSETFROM:+0100
TZOFFSETTO:+0200
TZNAME:CEST
DTSTART:20270328T010000
END:DAYLIGHT
BEGIN:STANDARD
TZOFFSETFROM:+0200
TZOFFSETTO:+0100
TZNAME:CET
DTSTART:20271031T010000
END:STANDARD
END:VTIMEZONE
BEGIN:VEVENT
DTSTART;TZID=Europe/Berlin:20260328T100000
DTEND;TZID=Europe/Berlin:20260328T130000
DTSTAMP:20260421T172316
CREATED:20251026T113924Z
LAST-MODIFIED:20260318T202342Z
UID:7476-1774692000-1774702800@ssv-hi.de
SUMMARY:Kreisjugendkader 2025/2026 Training
DESCRIPTION:Dieser Termin ist für alle Kaderschützinnen und Kaderschützen des Kreisjugendkaders 2025/2026.
URL:https://ssv-hi.de/termin/kreisjugendkader-2025-2026-training-5/
LOCATION:Junggesellenkompanie von 1831 e. V. Hildesheim\, Heinrichstraße 24\, Hildesheim\, 31137\, Deutschland
CATEGORIES:Jugend
ATTACH;FMTTYPE=image/jpeg:https://ssv-hi.de/wp-content/uploads/Artikelbild-Jugend_Gewehr.jpg
ORGANIZER;CN="Sportsch%C3%BCtzenverband Hildesheim-Marienburg e. V.":MAILTO:info@ssv-hi.de
END:VEVENT
END:VCALENDAR