BEGIN:VCALENDAR
VERSION:2.0
PRODID:-//Sportschützenverband Hildesheim-Marienburg e. V. - ECPv6.15.20//NONSGML v1.0//EN
CALSCALE:GREGORIAN
METHOD:PUBLISH
X-WR-CALNAME:Sportschützenverband Hildesheim-Marienburg e. V.
X-ORIGINAL-URL:https://ssv-hi.de
X-WR-CALDESC:Veranstaltungen für Sportschützenverband Hildesheim-Marienburg e. V.
REFRESH-INTERVAL;VALUE=DURATION:PT1H
X-Robots-Tag:noindex
X-PUBLISHED-TTL:PT1H
BEGIN:VTIMEZONE
TZID:Europe/Berlin
BEGIN:DAYLIGHT
TZOFFSETFROM:+0100
TZOFFSETTO:+0200
TZNAME:CEST
DTSTART:20250330T010000
END:DAYLIGHT
BEGIN:STANDARD
TZOFFSETFROM:+0200
TZOFFSETTO:+0100
TZNAME:CET
DTSTART:20251026T010000
END:STANDARD
BEGIN:DAYLIGHT
TZOFFSETFROM:+0100
TZOFFSETTO:+0200
TZNAME:CEST
DTSTART:20260329T010000
END:DAYLIGHT
BEGIN:STANDARD
TZOFFSETFROM:+0200
TZOFFSETTO:+0100
TZNAME:CET
DTSTART:20261025T010000
END:STANDARD
BEGIN:DAYLIGHT
TZOFFSETFROM:+0100
TZOFFSETTO:+0200
TZNAME:CEST
DTSTART:20270328T010000
END:DAYLIGHT
BEGIN:STANDARD
TZOFFSETFROM:+0200
TZOFFSETTO:+0100
TZNAME:CET
DTSTART:20271031T010000
END:STANDARD
END:VTIMEZONE
BEGIN:VEVENT
DTSTART;VALUE=DATE:20260221
DTEND;VALUE=DATE:20260316
DTSTAMP:20260421T155705
CREATED:20251214T193226Z
LAST-MODIFIED:20251214T193226Z
UID:7719-1771632000-1773619199@ssv-hi.de
SUMMARY:Ausbildung Schießsportleiter 2026
DESCRIPTION:Der nächste Schießsportleiter-Lehrgang findet im Schützenhaus des\nSV Gleidingen von 1928\, Ritterstraße 3 26\, 30880 Laatzen (Gleidingen) statt. \nSchulungstermine: 21. und 22.02.\, 07.\, 08. und 14.03.2026\, jeweils 9.00 bis 17.00 Uhr\nPrüfung: 15. März 2026 \nAnmeldungen: bis zum 06. Februar 2026 eingehend direkt an den Schulungsleiter Hagen Heuer
URL:https://ssv-hi.de/termin/ausbildung-schiesssportleiter-2026/
LOCATION:Schützenverein Gleidingen v. 1928 e. V.\, Ritterstr. 26\, Laatzen\, Niedersachsen\, 30880\, Deutschland
CATEGORIES:Bildung und Recht
ATTACH;FMTTYPE=image/jpeg:https://ssv-hi.de/wp-content/uploads/Artikelbild-Bildung.jpg
ORGANIZER;CN="Sportsch%C3%BCtzenverband Hildesheim-Marienburg e. V.":MAILTO:info@ssv-hi.de
END:VEVENT
BEGIN:VEVENT
DTSTART;VALUE=DATE:20260301
DTEND;VALUE=DATE:20260302
DTSTAMP:20260421T155705
CREATED:20251112T184302Z
LAST-MODIFIED:20251112T184302Z
UID:7526-1772323200-1772409599@ssv-hi.de
SUMMARY:KM Allgemein 2026
DESCRIPTION:
URL:https://ssv-hi.de/termin/km-allgemein-2026/
LOCATION:Bundesstützpunkt Sportschießen Hannover\, Wilkenburger Str. 30\, Hannover\, 30519
CATEGORIES:Damen,Jugend,Sport
ATTACH;FMTTYPE=image/jpeg:https://ssv-hi.de/wp-content/uploads/Artikelbild-Sport.jpg
ORGANIZER;CN="Sportsch%C3%BCtzenverband Hildesheim-Marienburg e. V.":MAILTO:info@ssv-hi.de
END:VEVENT
BEGIN:VEVENT
DTSTART;TZID=Europe/Berlin:20260307T100000
DTEND;TZID=Europe/Berlin:20260307T130000
DTSTAMP:20260421T155705
CREATED:20251026T113907Z
LAST-MODIFIED:20260216T200045Z
UID:7475-1772877600-1772888400@ssv-hi.de
SUMMARY:Kreisjugendkader 2025/2026 Training
DESCRIPTION:Dieser Termin ist für alle Kaderschützinnen und Kaderschützen des Kreisjugendkaders 2025/2026.
URL:https://ssv-hi.de/termin/kreisjugendkader-2025-2026-training-4/
LOCATION:Schützenklub Algermissen e. V.\, Schützenweg\, Algermissen\, 31191
CATEGORIES:Jugend
ATTACH;FMTTYPE=image/jpeg:https://ssv-hi.de/wp-content/uploads/Artikelbild-Jugend_Gewehr.jpg
ORGANIZER;CN="Sportsch%C3%BCtzenverband Hildesheim-Marienburg e. V.":MAILTO:info@ssv-hi.de
END:VEVENT
BEGIN:VEVENT
DTSTART;VALUE=DATE:20260313
DTEND;VALUE=DATE:20260314
DTSTAMP:20260421T155705
CREATED:20251112T184316Z
LAST-MODIFIED:20251112T184316Z
UID:7532-1773360000-1773446399@ssv-hi.de
SUMMARY:Ende Hildesheimer Rose Winterrunde 2025/26
DESCRIPTION:
URL:https://ssv-hi.de/termin/ende-hildesheimer-rose-winterrunde-2025-26/
CATEGORIES:Damen,Jugend,Sport
ATTACH;FMTTYPE=image/jpeg:https://ssv-hi.de/wp-content/uploads/Artikelbild-Sport.jpg
ORGANIZER;CN="Sportsch%C3%BCtzenverband Hildesheim-Marienburg e. V.":MAILTO:info@ssv-hi.de
END:VEVENT
BEGIN:VEVENT
DTSTART;TZID=Europe/Berlin:20260318T180000
DTEND;TZID=Europe/Berlin:20260318T180000
DTSTAMP:20260421T155705
CREATED:20260201T182020Z
LAST-MODIFIED:20260219T201815Z
UID:7797-1773856800-1773856800@ssv-hi.de
SUMMARY:Jugendausschusssitzung 2026
DESCRIPTION:
URL:https://ssv-hi.de/termin/jugendausschusssitzung-2026/
LOCATION:Junggesellenkompanie von 1831 e. V. Hildesheim\, Heinrichstraße 24\, Hildesheim\, 31137\, Deutschland
CATEGORIES:Jugend
ATTACH;FMTTYPE=image/jpeg:https://ssv-hi.de/wp-content/uploads/Artikelbild-Jugend_Gewehr.jpg
ORGANIZER;CN="Sportsch%C3%BCtzenverband Hildesheim-Marienburg e. V.":MAILTO:info@ssv-hi.de
END:VEVENT
BEGIN:VEVENT
DTSTART;VALUE=DATE:20260321
DTEND;VALUE=DATE:20260322
DTSTAMP:20260421T155705
CREATED:20251112T184328Z
LAST-MODIFIED:20251112T184328Z
UID:7528-1774051200-1774137599@ssv-hi.de
SUMMARY:KM Allgemein 2026
DESCRIPTION:
URL:https://ssv-hi.de/termin/km-allgemein-2026-2/
LOCATION:Bundesstützpunkt Sportschießen Hannover\, Wilkenburger Str. 30\, Hannover\, 30519
CATEGORIES:Damen,Jugend,Sport
ATTACH;FMTTYPE=image/jpeg:https://ssv-hi.de/wp-content/uploads/Artikelbild-Sport.jpg
ORGANIZER;CN="Sportsch%C3%BCtzenverband Hildesheim-Marienburg e. V.":MAILTO:info@ssv-hi.de
END:VEVENT
BEGIN:VEVENT
DTSTART;TZID=Europe/Berlin:20260328T100000
DTEND;TZID=Europe/Berlin:20260328T130000
DTSTAMP:20260421T155705
CREATED:20251026T113924Z
LAST-MODIFIED:20260318T202342Z
UID:7476-1774692000-1774702800@ssv-hi.de
SUMMARY:Kreisjugendkader 2025/2026 Training
DESCRIPTION:Dieser Termin ist für alle Kaderschützinnen und Kaderschützen des Kreisjugendkaders 2025/2026.
URL:https://ssv-hi.de/termin/kreisjugendkader-2025-2026-training-5/
LOCATION:Junggesellenkompanie von 1831 e. V. Hildesheim\, Heinrichstraße 24\, Hildesheim\, 31137\, Deutschland
CATEGORIES:Jugend
ATTACH;FMTTYPE=image/jpeg:https://ssv-hi.de/wp-content/uploads/Artikelbild-Jugend_Gewehr.jpg
ORGANIZER;CN="Sportsch%C3%BCtzenverband Hildesheim-Marienburg e. V.":MAILTO:info@ssv-hi.de
END:VEVENT
BEGIN:VEVENT
DTSTART;VALUE=DATE:20260329
DTEND;VALUE=DATE:20260330
DTSTAMP:20260421T155705
CREATED:20251112T184339Z
LAST-MODIFIED:20251112T184339Z
UID:7530-1774742400-1774828799@ssv-hi.de
SUMMARY:KM Allgemein 2026
DESCRIPTION:
URL:https://ssv-hi.de/termin/km-allgemein-2026-3/
LOCATION:Bundesstützpunkt Sportschießen Hannover\, Wilkenburger Str. 30\, Hannover\, 30519
CATEGORIES:Damen,Jugend,Sport
ATTACH;FMTTYPE=image/jpeg:https://ssv-hi.de/wp-content/uploads/Artikelbild-Sport.jpg
ORGANIZER;CN="Sportsch%C3%BCtzenverband Hildesheim-Marienburg e. V.":MAILTO:info@ssv-hi.de
END:VEVENT
END:VCALENDAR